BEGIN:VCALENDAR
VERSION:2.0
PRODID:-//wp-events-plugin.com//7.2.3.1//EN
BEGIN:VEVENT
UID:5@library.jgu.edu.in
DTSTART;TZID=Asia/Kolkata;VALUE=DATE:20240308
DTEND;TZID=Asia/Kolkata;VALUE=DATE:20240309
DTSTAMP:20240307T072208Z
URL:https://library.jgu.edu.in/events/to-celebrate-the-international-women
 s-day-on-the-occasion-of-15-years-of-institution-building/
SUMMARY:To celebrate the International Women's Day on the occasion of 15 ye
 ars of Institution building
DESCRIPTION:
ATTACH;FMTTYPE=image/jpeg:https://library.jgu.edu.in/wp-content/uploads/20
 24/03/Womens-Day-Celebration-scaled.jpg
CATEGORIES:Celebration
LOCATION:Global Auditorium\, Ratan Jindal Academic Block (T3)\, First Floor
 \, Sonipat\, Haryana\, 131001\, India
X-APPLE-STRUCTURED-LOCATION;VALUE=URI;X-ADDRESS=Ratan Jindal Academic Block
  (T3)\, First Floor\, Sonipat\, Haryana\, 131001\, India;X-APPLE-RADIUS=10
 0;X-TITLE=Global Auditorium:geo:0,0
END:VEVENT
BEGIN:VTIMEZONE
TZID:Asia/Kolkata
X-LIC-LOCATION:Asia/Kolkata
BEGIN:STANDARD
DTSTART:20230309T000000
TZOFFSETFROM:+0530
TZOFFSETTO:+0530
TZNAME:IST
END:STANDARD
END:VTIMEZONE
END:VCALENDAR